BEGIN:VCALENDAR
VERSION:2.0
PRODID:-//สมาคมสัตวแพทย์ควบคุมฟาร์มสุกรไทย - ECPv5.14.1//NONSGML v1.0//EN
CALSCALE:GREGORIAN
METHOD:PUBLISH
X-WR-CALNAME:สมาคมสัตวแพทย์ควบคุมฟาร์มสุกรไทย
X-ORIGINAL-URL:https://tsva.or.th
X-WR-CALDESC:Events for สมาคมสัตวแพทย์ควบคุมฟาร์มสุกรไทย
BEGIN:VTIMEZONE
TZID:Asia/Krasnoyarsk
BEGIN:STANDARD
TZOFFSETFROM:+0700
TZOFFSETTO:+0700
TZNAME:+07
DTSTART:20260101T000000
END:STANDARD
END:VTIMEZONE
BEGIN:VEVENT
DTSTART;VALUE=DATE:20260508
DTEND;VALUE=DATE:20260509
DTSTAMP:20260423T035632
CREATED:20260422T172710Z
LAST-MODIFIED:20260422T172731Z
UID:7946-1778198400-1778284799@tsva.or.th
SUMMARY:งานอบรมสัตวแพทย์ผู้ควบคุมฟาร์มสุกร หลักสูตรก้าวหน้า
DESCRIPTION:
URL:https://tsva.or.th/event/%e0%b8%87%e0%b8%b2%e0%b8%99%e0%b8%ad%e0%b8%9a%e0%b8%a3%e0%b8%a1%e0%b8%aa%e0%b8%b1%e0%b8%95%e0%b8%a7%e0%b9%81%e0%b8%9e%e0%b8%97%e0%b8%a2%e0%b9%8c%e0%b8%9c%e0%b8%b9%e0%b9%89%e0%b8%84%e0%b8%a7%e0%b8%9a%e0%b8%84%e0%b8%b8%e0%b8%a1%e0%b8%9f%e0%b8%b2%e0%b8%a3%e0%b9%8c%e0%b8%a1%e0%b8%aa%e0%b8%b8%e0%b8%81%e0%b8%a3-%e0%b8%ab%e0%b8%a5%e0%b8%b1%e0%b8%81%e0%b8%aa%e0%b8%b9%e0%b8%95%e0%b8%a3%e0%b8%81%e0%b9%89%e0%b8%b2%e0%b8%a7%e0%b8%ab%e0%b8%99%e0%b9%89%e0%b8%b2-2026
ATTACH;FMTTYPE=image/jpeg:https://tsva.or.th/wp-content/uploads/2026/04/tsva-training-2026-05.jpg
END:VEVENT
END:VCALENDAR