BEGIN:VCALENDAR
VERSION:2.0
PRODID:-//สมาคมสัตวแพทย์ควบคุมฟาร์มสุกรไทย - ECPv5.14.1//NONSGML v1.0//EN
CALSCALE:GREGORIAN
METHOD:PUBLISH
X-WR-CALNAME:สมาคมสัตวแพทย์ควบคุมฟาร์มสุกรไทย
X-ORIGINAL-URL:https://tsva.or.th
X-WR-CALDESC:Events for สมาคมสัตวแพทย์ควบคุมฟาร์มสุกรไทย
BEGIN:VTIMEZONE
TZID:Asia/Krasnoyarsk
BEGIN:STANDARD
TZOFFSETFROM:+0700
TZOFFSETTO:+0700
TZNAME:+07
DTSTART:20210101T000000
END:STANDARD
END:VTIMEZONE
BEGIN:VEVENT
DTSTART;VALUE=DATE:20211119
DTEND;VALUE=DATE:20211120
DTSTAMP:20260423T015939
CREATED:20211101T162928Z
LAST-MODIFIED:20211109T134733Z
UID:7163-1637280000-1637366399@tsva.or.th
SUMMARY:15th IPCD 2021
DESCRIPTION:>>>>> Link สมัคร <<<<< \n\nหรือ Scan QR Code ด้านล่าง
URL:https://tsva.or.th/event/15th-ipcd-2021
ATTACH;FMTTYPE=image/jpeg:https://tsva.or.th/wp-content/uploads/2021/11/IPCD2021.jpg
END:VEVENT
END:VCALENDAR