BEGIN:VCALENDAR
VERSION:2.0
PRODID:-//สมาคมสัตวแพทย์ควบคุมฟาร์มสุกรไทย - ECPv5.14.1//NONSGML v1.0//EN
CALSCALE:GREGORIAN
METHOD:PUBLISH
X-WR-CALNAME:สมาคมสัตวแพทย์ควบคุมฟาร์มสุกรไทย
X-ORIGINAL-URL:https://tsva.or.th
X-WR-CALDESC:Events for สมาคมสัตวแพทย์ควบคุมฟาร์มสุกรไทย
BEGIN:VTIMEZONE
TZID:Asia/Krasnoyarsk
BEGIN:STANDARD
TZOFFSETFROM:+0700
TZOFFSETTO:+0700
TZNAME:+07
DTSTART:20240101T000000
END:STANDARD
END:VTIMEZONE
BEGIN:VEVENT
DTSTART;TZID=Asia/Krasnoyarsk:20241128T080000
DTEND;TZID=Asia/Krasnoyarsk:20241129T170000
DTSTAMP:20260419T211423
CREATED:20241009T060723Z
LAST-MODIFIED:20241009T061010Z
UID:7664-1732780800-1732899600@tsva.or.th
SUMMARY:ICVS2024
DESCRIPTION:ขอเชิญ สมาชิกสมาคมสัตวบาลแห่งประเทศไทยฯ และสมาชิกสัตวแพทยสมาคมแห่งประเทศไทยฯ **\nลงทะเบียนร่วมงานประชุมวิชาการ ICVS 2024 (จัดร่วมกันเป็นครั้งแรก)\nRegistration for ICVS 2024 is now open! To register\, simply scan the QR code or visit the event page at: \nhttps://www.zipeventapp.com/e/ICVS-2024 \nติดตามข่าวสารได้ทีื:\nFB สัตวแพทยสมาคมฯ\nhttps://www.facebook.com/thaivma?mibextid=LQQJ4d \nFB สมาคมสัตวบาลฯ\nhttps://www.facebook.com/profile.php?id=100064346725977&mibextid=LQQJ4d \n#ICVS2024\n#TVMA \n 
URL:https://tsva.or.th/event/icvs2024
ATTACH;FMTTYPE=image/jpeg:https://tsva.or.th/wp-content/uploads/2024/10/icvs-2024-1.jpg
END:VEVENT
END:VCALENDAR