BEGIN:VCALENDAR
VERSION:2.0
PRODID:-//สมาคมสัตวแพทย์ควบคุมฟาร์มสุกรไทย - ECPv5.14.1//NONSGML v1.0//EN
CALSCALE:GREGORIAN
METHOD:PUBLISH
X-WR-CALNAME:สมาคมสัตวแพทย์ควบคุมฟาร์มสุกรไทย
X-ORIGINAL-URL:https://tsva.or.th
X-WR-CALDESC:Events for สมาคมสัตวแพทย์ควบคุมฟาร์มสุกรไทย
BEGIN:VTIMEZONE
TZID:Asia/Krasnoyarsk
BEGIN:STANDARD
TZOFFSETFROM:+0700
TZOFFSETTO:+0700
TZNAME:+07
DTSTART:20220101T000000
END:STANDARD
END:VTIMEZONE
BEGIN:VEVENT
DTSTART;TZID=Asia/Krasnoyarsk:20220126T100000
DTEND;TZID=Asia/Krasnoyarsk:20220126T140000
DTSTAMP:20260423T020144
CREATED:20220115T100609Z
LAST-MODIFIED:20220115T100609Z
UID:7176-1643191200-1643205600@tsva.or.th
SUMMARY:TSVA Live ครั้งที่ 5
DESCRIPTION:
URL:https://tsva.or.th/event/tsva-live-ep-5
ATTACH;FMTTYPE=image/jpeg:https://tsva.or.th/wp-content/uploads/2022/01/tsva-live-ep5.jpg
END:VEVENT
END:VCALENDAR